BEGIN:VCALENDAR
VERSION:2.0
PRODID:-//Longplex - ECPv6.10.3//NONSGML v1.0//EN
CALSCALE:GREGORIAN
METHOD:PUBLISH
X-WR-CALNAME:Longplex
X-ORIGINAL-URL:https://longplex.com
X-WR-CALDESC:Events for Longplex
REFRESH-INTERVAL;VALUE=DURATION:PT1H
X-Robots-Tag:noindex
X-PUBLISHED-TTL:PT1H
BEGIN:VTIMEZONE
TZID:UTC
BEGIN:STANDARD
TZOFFSETFROM:+0000
TZOFFSETTO:+0000
TZNAME:UTC
DTSTART:20260101T000000
END:STANDARD
END:VTIMEZONE
BEGIN:VEVENT
DTSTART;TZID=UTC:20260313T100000
DTEND;TZID=UTC:20260313T123000
DTSTAMP:20260421T114130
CREATED:20251210T165415Z
LAST-MODIFIED:20251210T165417Z
UID:5193-1773396000-1773405000@longplex.com
SUMMARY:Bounce and Brew
DESCRIPTION:Come sip and chat while the kids jump until their hearts content! Every Monday\, Wednesday and Friday from 10 am – 12:30 pm! Ages up to 7 years old! Admission only $10 per child!
URL:https://longplex.com/event/bounce-and-brew-84/
ATTACH;FMTTYPE=image/png:https://longplex.com/wp-content/uploads/2025/09/7-younger-1.png
END:VEVENT
BEGIN:VEVENT
DTSTART;TZID=UTC:20260313T100000
DTEND;TZID=UTC:20260313T123000
DTSTAMP:20260421T114130
CREATED:20260225T193547Z
LAST-MODIFIED:20260225T193548Z
UID:5319-1773396000-1773405000@longplex.com
SUMMARY:Tots of Turf
DESCRIPTION:We provide the gear: Balls and cones are set up & ready to play \n\n\n\nTotal comfort: let the kids run wild in our climate-controlled facility \n\n\n\nSafe Space: a massive turf field for toddlers to explore\, kick\, and dash \n\n\n\n7 years and younger event
URL:https://longplex.com/event/tots-of-turf/
ATTACH;FMTTYPE=image/png:https://longplex.com/wp-content/uploads/2026/02/Untitled-design-14.png
END:VEVENT
BEGIN:VEVENT
DTSTART;TZID=UTC:20260313T183000
DTEND;TZID=UTC:20260313T230000
DTSTAMP:20260421T114130
CREATED:20260206T173248Z
LAST-MODIFIED:20260206T173249Z
UID:5271-1773426600-1773442800@longplex.com
SUMMARY:Karaoke - Star of the Stage Semi Finals!
DESCRIPTION:
URL:https://longplex.com/event/karaoke-star-of-the-stage-semi-finals-2/
ATTACH;FMTTYPE=image/jpeg:https://longplex.com/wp-content/uploads/2026/02/IMG_3487.jpeg
END:VEVENT
END:VCALENDAR